BEGIN:VCALENDAR
VERSION:2.0
PRODID:-//Destiny International Houston - ECPv6.15.17//NONSGML v1.0//EN
CALSCALE:GREGORIAN
METHOD:PUBLISH
X-WR-CALNAME:Destiny International Houston
X-ORIGINAL-URL:https://www.destinymissions.org
X-WR-CALDESC:Events for Destiny International Houston
REFRESH-INTERVAL;VALUE=DURATION:PT1H
X-Robots-Tag:noindex
X-PUBLISHED-TTL:PT1H
BEGIN:VTIMEZONE
TZID:UTC
BEGIN:STANDARD
TZOFFSETFROM:+0000
TZOFFSETTO:+0000
TZNAME:UTC
DTSTART:20200101T000000
END:STANDARD
END:VTIMEZONE
BEGIN:VEVENT
DTSTART;TZID=UTC:20210725T120000
DTEND;TZID=UTC:20210725T140000
DTSTAMP:20260425T121100
CREATED:20211013T171641Z
LAST-MODIFIED:20211013T171641Z
UID:6792-1627214400-1627221600@www.destinymissions.org
SUMMARY:25 YEARS ANNIVERSAY GRAND FINALE SERVICE
DESCRIPTION:It’s the grand finale of 25days of Praise and Thanksgiving in celebration of Destiny International Mission World-wide 25years anniversary… \nPlease be our guest & don’t come alone. \nTIME:12noon \nDATE: Sunday 25th July. \n… We are a Prophetic Church With an Apostolic Mandate! \nKindly & repost.
URL:https://www.destinymissions.org/event/25-years-anniversay-grand-finale-service/
LOCATION:Destiny International Missions\, Destiny International Missions 25839 Interstate 10 Frontage RdKaty\, TX\, 77494\, Houston\, TX\, 77494\, United States
CATEGORIES:Special Events
ATTACH;FMTTYPE=image/jpeg:https://www.destinymissions.org/wp-content/uploads/2021/10/CopyofCopyofBIBLESTUDYFLYER-MadewithPosterMyWall.jpeg
END:VEVENT
END:VCALENDAR