BEGIN:VCALENDAR
VERSION:2.0
PRODID:-//Destiny International Houston - ECPv6.15.17//NONSGML v1.0//EN
CALSCALE:GREGORIAN
METHOD:PUBLISH
X-ORIGINAL-URL:https://www.destinymissions.org
X-WR-CALDESC:Events for Destiny International Houston
REFRESH-INTERVAL;VALUE=DURATION:PT1H
X-Robots-Tag:noindex
X-PUBLISHED-TTL:PT1H
BEGIN:VTIMEZONE
TZID:UTC
BEGIN:STANDARD
TZOFFSETFROM:+0000
TZOFFSETTO:+0000
TZNAME:UTC
DTSTART:20200101T000000
END:STANDARD
END:VTIMEZONE
BEGIN:VEVENT
DTSTART;TZID=UTC:20210523T100000
DTEND;TZID=UTC:20210523T140000
DTSTAMP:20260426T040348
CREATED:20211013T162200Z
LAST-MODIFIED:20211013T170118Z
UID:6741-1621764000-1621778400@www.destinymissions.org
SUMMARY:Pentecost Celebration
DESCRIPTION:The Spirit of Jesus comes to dwell within us\, so that everyone who has accepted Jesus Christ can become living Christs here and now. \n\n\n\n\n\n\nSource:: https://www.facebook.com/destinyinternationalmissionhoustonusa
URL:https://www.destinymissions.org/event/pentecost-celebration/
LOCATION:Destiny International Missions\, Destiny International Missions 25839 Interstate 10 Frontage RdKaty\, TX\, 77494\, Houston\, TX\, 77494\, United States
CATEGORIES:Special Events
ATTACH;FMTTYPE=image/jpeg:https://www.destinymissions.org/wp-content/uploads/2021/10/CopyofCopyofchurchpentecostsunday-MadewithPosterMyWall.jpeg
END:VEVENT
END:VCALENDAR