BEGIN:VCALENDAR
VERSION:2.0
PRODID:-//Destiny International Houston - ECPv6.15.17//NONSGML v1.0//EN
CALSCALE:GREGORIAN
METHOD:PUBLISH
X-WR-CALNAME:Destiny International Houston
X-ORIGINAL-URL:https://www.destinymissions.org
X-WR-CALDESC:Events for Destiny International Houston
REFRESH-INTERVAL;VALUE=DURATION:PT1H
X-Robots-Tag:noindex
X-PUBLISHED-TTL:PT1H
BEGIN:VTIMEZONE
TZID:Europe/Paris
BEGIN:DAYLIGHT
TZOFFSETFROM:+0100
TZOFFSETTO:+0200
TZNAME:CEST
DTSTART:20210328T010000
END:DAYLIGHT
BEGIN:STANDARD
TZOFFSETFROM:+0200
TZOFFSETTO:+0100
TZNAME:CET
DTSTART:20211031T010000
END:STANDARD
BEGIN:DAYLIGHT
TZOFFSETFROM:+0100
TZOFFSETTO:+0200
TZNAME:CEST
DTSTART:20220327T010000
END:DAYLIGHT
BEGIN:STANDARD
TZOFFSETFROM:+0200
TZOFFSETTO:+0100
TZNAME:CET
DTSTART:20221030T010000
END:STANDARD
BEGIN:DAYLIGHT
TZOFFSETFROM:+0100
TZOFFSETTO:+0200
TZNAME:CEST
DTSTART:20230326T010000
END:DAYLIGHT
BEGIN:STANDARD
TZOFFSETFROM:+0200
TZOFFSETTO:+0100
TZNAME:CET
DTSTART:20231029T010000
END:STANDARD
END:VTIMEZONE
BEGIN:VEVENT
DTSTART;VALUE=DATE:20220824
DTEND;VALUE=DATE:20220829
DTSTAMP:20260424T160839
CREATED:20220716T152647Z
LAST-MODIFIED:20220823T115004Z
UID:7299-1661299200-1661731199@www.destinymissions.org
SUMMARY:World Bible Conference 2022 - (WOBICON)
DESCRIPTION:Destiny International Missions Katy\, A member of New Covenant Global Ministries: a center for the teaching and practice of Christocracy\, In collaboration with Leadimpact University\, Denver Colorado USA\, Present; World Bible Conference (WOBICON). \n \nLife is full of challenges sometimes. It is as if everything is shutting down on you and God is there to re-start! \nNo failure\, mistakes\, or rejection should ever be the end of your story. You can restart your life. The World Bible Conference (WOBICON) is the place to hear His voice and get plugged into His will and purpose. You can find directions for your next level at WOBICON. \nOur theme for this year 2022 is RE-START. After the experience of the lock down because of COVID-19\, there are still many believers and people who are yet to stand up to their losses. But in this year’s WOBICON\, the present truth of God’s word will reach you with a rare line up of great men and women of God to speak into your life and cause a RESTART FOR YOUR RESTORATION. \nGod will answer your question of existence in this season and why your life matters to Him and His intention\, which is your purpose in the face of life challenges. \nJoin us from August 24- 28\, 2022 in this Holy Ghost prophetic move for a RESTART! \nThis year’s Conference our speakers shall include;  \n\nArchibishop Cletus & Bishop Blessing Bassey\nArchbishop Joseph Alexander\nPastor Adejumoke Adetunji Elisha\nApostle John and Barbara Burkholder\nBishop Dr. Roderick & Beverly Caesar |\nApostle Leo Akpan\nProphetess Lisa and John Cooper\nPastor Jorge & Olga Florian\nEvang Dr. Pat Akpabio\nBishop Dr. Simeon Agbolabori\n\nSpecial Music Presentation \n\nPastor Erina & Destiny Praise Team\nJoseph William C Bassey\nMinister Jovi\nFuente De Worship Team\n\nHotel reservation/bookings for WOBICON; \nHomewood Suites and Inn 25495 Katy Mills Pkwy\, Katy\, TX 77494 Call; (281) 391-5500\, CLICK HERE TO MAKE RESERVATION. \nComfort Suites Katy Mills Mall. Call:  832.618.8880. CLICK HERE TO MAKE RESERVATION \n  \nKindly register for the conference with by clicking (Free) REGISTER.  \nScan QR Code to REGISTER. (Free) \nScan QR Code\n  \n  \n  \n  \n  \n  \n  \n  \n  \nWe look forward to seeing your life transform into God’s purpose and plan for your Destiny.  \n 
URL:https://www.destinymissions.org/event/world-bible-conference-wobicon/
LOCATION:Destiny International Missions\, Destiny International Missions 25839 Interstate 10 Frontage RdKaty\, TX\, 77494\, Houston\, TX\, 77494\, United States
CATEGORIES:Special Events
ATTACH;FMTTYPE=image/png:https://www.destinymissions.org/wp-content/uploads/2022/07/WOBICON-FINAL-EDIT-.png
END:VEVENT
END:VCALENDAR